BEGIN:VCALENDAR
VERSION:2.0
PRODID:-//Lamastrock - ECPv6.15.20//NONSGML v1.0//EN
CALSCALE:GREGORIAN
METHOD:PUBLISH
X-ORIGINAL-URL:https://www.lamastrock.com
X-WR-CALDESC:Évènements pour Lamastrock
REFRESH-INTERVAL;VALUE=DURATION:PT1H
X-Robots-Tag:noindex
X-PUBLISHED-TTL:PT1H
BEGIN:VTIMEZONE
TZID:Europe/Paris
BEGIN:DAYLIGHT
TZOFFSETFROM:+0100
TZOFFSETTO:+0200
TZNAME:CEST
DTSTART:20250330T010000
END:DAYLIGHT
BEGIN:STANDARD
TZOFFSETFROM:+0200
TZOFFSETTO:+0100
TZNAME:CET
DTSTART:20251026T010000
END:STANDARD
BEGIN:DAYLIGHT
TZOFFSETFROM:+0100
TZOFFSETTO:+0200
TZNAME:CEST
DTSTART:20260329T010000
END:DAYLIGHT
BEGIN:STANDARD
TZOFFSETFROM:+0200
TZOFFSETTO:+0100
TZNAME:CET
DTSTART:20261025T010000
END:STANDARD
BEGIN:DAYLIGHT
TZOFFSETFROM:+0100
TZOFFSETTO:+0200
TZNAME:CEST
DTSTART:20270328T010000
END:DAYLIGHT
BEGIN:STANDARD
TZOFFSETFROM:+0200
TZOFFSETTO:+0100
TZNAME:CET
DTSTART:20271031T010000
END:STANDARD
END:VTIMEZONE
BEGIN:VEVENT
DTSTART;TZID=Europe/Paris:20260116T000000
DTEND;TZID=Europe/Paris:20260116T235959
DTSTAMP:20260421T103637
CREATED:20260211T094451Z
LAST-MODIFIED:20260217T085301Z
UID:31196-1768521600-1768607999@www.lamastrock.com
SUMMARY:Figeac (46) - L'Astrolabe
DESCRIPTION:
URL:https://www.lamastrock.com/date/bonbon-vodou-3/
LOCATION:Figeac (46) – L’Astrolabe\, Figeac\, 46100\, France
CATEGORIES:BONBON VODOU
END:VEVENT
BEGIN:VEVENT
DTSTART;TZID=Europe/Paris:20260124T000000
DTEND;TZID=Europe/Paris:20260124T235959
DTSTAMP:20260421T103637
CREATED:20260211T093947Z
LAST-MODIFIED:20260217T085313Z
UID:31194-1769212800-1769299199@www.lamastrock.com
SUMMARY:GIGNAC (34) – Le Sonambule
DESCRIPTION:
URL:https://www.lamastrock.com/date/bonbon-vodou-2/
CATEGORIES:BONBON VODOU
END:VEVENT
END:VCALENDAR